Package: enrichViewNet Version: 1.5.0 Command: /home/biocbuild/bbs-3.21-bioc/R/bin/R CMD check --install=check:enrichViewNet.install-out.txt --library=/home/biocbuild/bbs-3.21-bioc/R/site-library --timings enrichViewNet_1.5.0.tar.gz StartedAt: 2025-02-09 22:03:03 -0500 (Sun, 09 Feb 2025) EndedAt: 2025-02-09 22:06:53 -0500 (Sun, 09 Feb 2025) EllapsedTime: 230.3 seconds RetCode: 0 Status: OK CheckDir: enrichViewNet.Rcheck Warnings: 0