Package: enrichViewNet Version: 1.5.0 Command: rm -rf enrichViewNet.buildbin-libdir && mkdir enrichViewNet.buildbin-libdir && E:\biocbuild\bbs-3.21-bioc\R\bin\R.exe CMD INSTALL --build --library=enrichViewNet.buildbin-libdir enrichViewNet_1.5.0.tar.gz StartedAt: 2025-02-10 07:41:37 -0500 (Mon, 10 Feb 2025) EndedAt: 2025-02-10 07:42:56 -0500 (Mon, 10 Feb 2025) EllapsedTime: 78.6 seconds RetCode: 0 Status: OK PackageFile: enrichViewNet_1.5.0.zip PackageFileSize: 2.507 MiB