Package: enrichViewNet Version: 1.5.0 Command: E:\biocbuild\bbs-3.21-bioc\R\bin\R.exe CMD INSTALL enrichViewNet StartedAt: 2025-02-04 16:36:58 -0500 (Tue, 04 Feb 2025) EndedAt: 2025-02-04 16:37:34 -0500 (Tue, 04 Feb 2025) EllapsedTime: 35.8 seconds RetCode: 0 Status: OK