Package: epialleleR Version: 1.15.1 Command: /Library/Frameworks/R.framework/Resources/bin/R CMD build --keep-empty-dirs --no-resave-data epialleleR StartedAt: 2025-02-12 16:14:51 -0500 (Wed, 12 Feb 2025) EndedAt: 2025-02-12 16:15:26 -0500 (Wed, 12 Feb 2025) EllapsedTime: 34.4 seconds RetCode: 0 Status: OK PackageFile: epialleleR_1.15.1.tar.gz PackageFileSize: 3.8 MiB