Package: epialleleR Version: 1.15.1 Command: /Library/Frameworks/R.framework/Resources/bin/R CMD check --install=check:epialleleR.install-out.txt --library=/Library/Frameworks/R.framework/Resources/library --no-vignettes --timings epialleleR_1.15.1.tar.gz StartedAt: 2025-02-09 19:05:55 -0500 (Sun, 09 Feb 2025) EndedAt: 2025-02-09 19:06:48 -0500 (Sun, 09 Feb 2025) EllapsedTime: 52.6 seconds RetCode: 0 Status: OK CheckDir: epialleleR.Rcheck Warnings: 0