Package: epialleleR Version: 1.15.1 Command: /Library/Frameworks/R.framework/Resources/bin/R CMD INSTALL epialleleR StartedAt: 2025-02-09 15:04:12 -0500 (Sun, 09 Feb 2025) EndedAt: 2025-02-09 15:04:32 -0500 (Sun, 09 Feb 2025) EllapsedTime: 19.6 seconds RetCode: 0 Status: OK