Package: epialleleR Version: 1.15.1 Command: /home/biocbuild/R/R/bin/R CMD INSTALL epialleleR StartedAt: 2025-01-29 19:38:34 -0000 (Wed, 29 Jan 2025) EndedAt: 2025-01-29 19:40:18 -0000 (Wed, 29 Jan 2025) EllapsedTime: 104.6 seconds RetCode: 0 Status: OK