Package: epialleleR Version: 1.15.1 Command: /home/biocbuild/bbs-3.21-bioc/R/bin/R CMD build --keep-empty-dirs --no-resave-data epialleleR StartedAt: 2025-02-09 17:08:00 -0500 (Sun, 09 Feb 2025) EndedAt: 2025-02-09 17:09:44 -0500 (Sun, 09 Feb 2025) EllapsedTime: 104.1 seconds RetCode: 0 Status: OK PackageFile: epialleleR_1.15.1.tar.gz PackageFileSize: 3.597 MiB