Package: epialleleR Version: 1.15.1 Command: /home/biocbuild/bbs-3.21-bioc/R/bin/R CMD check --install=check:epialleleR.install-out.txt --library=/home/biocbuild/bbs-3.21-bioc/R/site-library --timings epialleleR_1.15.1.tar.gz StartedAt: 2025-02-09 22:03:38 -0500 (Sun, 09 Feb 2025) EndedAt: 2025-02-09 22:06:25 -0500 (Sun, 09 Feb 2025) EllapsedTime: 167.2 seconds RetCode: 0 Status: OK CheckDir: epialleleR.Rcheck Warnings: 0