Package: epialleleR Version: 1.15.1 Command: /home/biocbuild/bbs-3.21-bioc/R/bin/R CMD INSTALL epialleleR StartedAt: 2025-02-09 15:33:29 -0500 (Sun, 09 Feb 2025) EndedAt: 2025-02-09 15:34:34 -0500 (Sun, 09 Feb 2025) EllapsedTime: 65.5 seconds RetCode: 0 Status: OK