Package: epialleleR Version: 1.15.1 Command: chmod a+r epialleleR -R && E:\biocbuild\bbs-3.21-bioc\R\bin\R.exe CMD build --keep-empty-dirs --no-resave-data epialleleR StartedAt: 2025-02-12 18:36:47 -0500 (Wed, 12 Feb 2025) EndedAt: 2025-02-12 18:39:01 -0500 (Wed, 12 Feb 2025) EllapsedTime: 133.4 seconds RetCode: 0 Status: OK PackageFile: epialleleR_1.15.1.tar.gz PackageFileSize: 2.367 MiB