Package: epialleleR Version: 1.15.1 Command: E:\biocbuild\bbs-3.21-bioc\R\bin\R.exe CMD INSTALL epialleleR StartedAt: 2025-02-12 15:40:16 -0500 (Wed, 12 Feb 2025) EndedAt: 2025-02-12 15:41:53 -0500 (Wed, 12 Feb 2025) EllapsedTime: 96.3 seconds RetCode: 0 Status: OK