Package: epidecodeR Version: 1.15.0 Command: /Library/Frameworks/R.framework/Resources/bin/R CMD check --install=check:epidecodeR.install-out.txt --library=/Library/Frameworks/R.framework/Resources/library --no-vignettes --timings epidecodeR_1.15.0.tar.gz StartedAt: 2025-02-12 19:09:57 -0500 (Wed, 12 Feb 2025) EndedAt: 2025-02-12 19:11:30 -0500 (Wed, 12 Feb 2025) EllapsedTime: 93.1 seconds RetCode: 0 Status: OK CheckDir: epidecodeR.Rcheck Warnings: 0