Package: epidecodeR Version: 1.15.0 Command: /home/biocbuild/R/R/bin/R CMD build --keep-empty-dirs --no-resave-data epidecodeR StartedAt: 2025-01-28 22:42:49 -0000 (Tue, 28 Jan 2025) EndedAt: 2025-01-28 22:43:59 -0000 (Tue, 28 Jan 2025) EllapsedTime: 70.0 seconds RetCode: 0 Status: OK PackageFile: epidecodeR_1.15.0.tar.gz PackageFileSize: 1.794 MiB