Package: epidecodeR Version: 1.15.0 Command: /Library/Frameworks/R.framework/Resources/bin/R CMD build --keep-empty-dirs --no-resave-data epidecodeR StartedAt: 2025-02-12 16:38:03 -0500 (Wed, 12 Feb 2025) EndedAt: 2025-02-12 16:39:04 -0500 (Wed, 12 Feb 2025) EllapsedTime: 61.8 seconds RetCode: 0 Status: OK PackageFile: epidecodeR_1.15.0.tar.gz PackageFileSize: 2.066 MiB