Package: epidecodeR Version: 1.15.0 Command: /home/biocbuild/bbs-3.21-bioc/R/bin/R CMD INSTALL epidecodeR StartedAt: 2025-02-09 15:26:10 -0500 (Sun, 09 Feb 2025) EndedAt: 2025-02-09 15:26:44 -0500 (Sun, 09 Feb 2025) EllapsedTime: 33.2 seconds RetCode: 0 Status: OK