Package: epigenomix Version: 1.47.0 Command: rm -rf epigenomix.buildbin-libdir && mkdir epigenomix.buildbin-libdir && /Users/biocbuild/BBS/utils/build-universal.sh epigenomix_1.47.0.tar.gz /Library/Frameworks/R.framework/Resources/bin/R epigenomix.buildbin-libdir StartedAt: 2025-02-09 22:13:31 -0500 (Sun, 09 Feb 2025) EndedAt: 2025-02-09 22:13:47 -0500 (Sun, 09 Feb 2025) EllapsedTime: 16.3 seconds RetCode: 0 Status: OK PackageFile: epigenomix_1.47.0.tgz PackageFileSize: 968 KiB