Package: epigenomix Version: 1.47.0 Command: /Library/Frameworks/R.framework/Resources/bin/R CMD build --keep-empty-dirs --no-resave-data epigenomix StartedAt: 2025-02-09 16:15:05 -0500 (Sun, 09 Feb 2025) EndedAt: 2025-02-09 16:15:36 -0500 (Sun, 09 Feb 2025) EllapsedTime: 30.3 seconds RetCode: 0 Status: OK PackageFile: epigenomix_1.47.0.tar.gz PackageFileSize: 426.6 KiB