Package: epigenomix Version: 1.47.0 Command: /Library/Frameworks/R.framework/Resources/bin/R CMD INSTALL epigenomix StartedAt: 2025-02-09 15:20:09 -0500 (Sun, 09 Feb 2025) EndedAt: 2025-02-09 15:20:23 -0500 (Sun, 09 Feb 2025) EllapsedTime: 14.4 seconds RetCode: 0 Status: OK