Package: epigenomix Version: 1.47.0 Command: /home/biocbuild/bbs-3.21-bioc/R/bin/R CMD check --install=check:epigenomix.install-out.txt --library=/home/biocbuild/bbs-3.21-bioc/R/site-library --timings epigenomix_1.47.0.tar.gz StartedAt: 2025-02-12 22:02:34 -0500 (Wed, 12 Feb 2025) EndedAt: 2025-02-12 22:08:21 -0500 (Wed, 12 Feb 2025) EllapsedTime: 346.4 seconds RetCode: 0 Status: OK CheckDir: epigenomix.Rcheck Warnings: 0