Package: epimutacions Version: 1.11.0 Command: rm -rf epimutacions.buildbin-libdir && mkdir epimutacions.buildbin-libdir && /Users/biocbuild/BBS/utils/build-universal.sh epimutacions_1.11.0.tar.gz /Library/Frameworks/R.framework/Resources/bin/R epimutacions.buildbin-libdir StartedAt: 2025-02-05 22:18:31 -0500 (Wed, 05 Feb 2025) EndedAt: 2025-02-05 22:18:53 -0500 (Wed, 05 Feb 2025) EllapsedTime: 22.4 seconds RetCode: 0 Status: OK PackageFile: epimutacions_1.11.0.tgz PackageFileSize: 1.658 MiB