Package: epimutacions Version: 1.11.0 Command: /Library/Frameworks/R.framework/Resources/bin/R CMD INSTALL epimutacions StartedAt: 2025-02-09 15:27:12 -0500 (Sun, 09 Feb 2025) EndedAt: 2025-02-09 15:27:32 -0500 (Sun, 09 Feb 2025) EllapsedTime: 19.8 seconds RetCode: 0 Status: OK