Package: epimutacions Version: 1.11.0 Command: /home/biocbuild/bbs-3.21-bioc/R/bin/R CMD check --install=check:epimutacions.install-out.txt --library=/home/biocbuild/bbs-3.21-bioc/R/site-library --timings epimutacions_1.11.0.tar.gz StartedAt: 2025-02-05 22:06:44 -0500 (Wed, 05 Feb 2025) EndedAt: 2025-02-05 22:16:08 -0500 (Wed, 05 Feb 2025) EllapsedTime: 564.6 seconds RetCode: 0 Status: OK CheckDir: epimutacions.Rcheck Warnings: 0