Package: epimutacions Version: 1.11.0 Command: rm -rf epimutacions.buildbin-libdir && mkdir epimutacions.buildbin-libdir && E:\biocbuild\bbs-3.21-bioc\R\bin\R.exe CMD INSTALL --build --library=epimutacions.buildbin-libdir epimutacions_1.11.0.tar.gz StartedAt: 2025-02-10 07:42:11 -0500 (Mon, 10 Feb 2025) EndedAt: 2025-02-10 07:43:47 -0500 (Mon, 10 Feb 2025) EllapsedTime: 95.9 seconds RetCode: 0 Status: OK PackageFile: epimutacions_1.11.0.zip PackageFileSize: 1.589 MiB