Package: epiregulon Version: 1.3.5 Command: /Library/Frameworks/R.framework/Resources/bin/R CMD check --install=check:epiregulon.install-out.txt --library=/Library/Frameworks/R.framework/Resources/library --no-vignettes --timings epiregulon_1.3.5.tar.gz StartedAt: 2025-02-12 19:11:28 -0500 (Wed, 12 Feb 2025) EndedAt: 2025-02-12 19:14:23 -0500 (Wed, 12 Feb 2025) EllapsedTime: 175.0 seconds RetCode: 0 Status: OK CheckDir: epiregulon.Rcheck Warnings: 0