Package: epiregulon Version: 1.3.5 Command: /Library/Frameworks/R.framework/Resources/bin/R CMD check --install=check:epiregulon.install-out.txt --library=/Library/Frameworks/R.framework/Resources/library --no-vignettes --timings epiregulon_1.3.5.tar.gz StartedAt: 2025-02-09 20:33:15 -0500 (Sun, 09 Feb 2025) EndedAt: 2025-02-09 20:43:03 -0500 (Sun, 09 Feb 2025) EllapsedTime: 587.6 seconds RetCode: 0 Status: OK CheckDir: epiregulon.Rcheck Warnings: 0