Package: epiregulon Version: 1.3.5 Command: /home/biocbuild/bbs-3.21-bioc/R/bin/R CMD INSTALL epiregulon StartedAt: 2025-02-09 15:53:07 -0500 (Sun, 09 Feb 2025) EndedAt: 2025-02-09 15:53:48 -0500 (Sun, 09 Feb 2025) EllapsedTime: 41.0 seconds RetCode: 0 Status: OK