Package: epiregulon Version: 1.3.5 Command: rm -rf epiregulon.buildbin-libdir && mkdir epiregulon.buildbin-libdir && E:\biocbuild\bbs-3.21-bioc\R\bin\R.exe CMD INSTALL --build --library=epiregulon.buildbin-libdir epiregulon_1.3.5.tar.gz StartedAt: 2025-02-10 07:42:26 -0500 (Mon, 10 Feb 2025) EndedAt: 2025-02-10 07:43:36 -0500 (Mon, 10 Feb 2025) EllapsedTime: 69.5 seconds RetCode: 0 Status: OK PackageFile: epiregulon_1.3.5.zip PackageFileSize: 1.146 MiB