Package: epistack Version: 1.13.0 Command: rm -rf epistack.buildbin-libdir && mkdir epistack.buildbin-libdir && /Users/biocbuild/BBS/utils/build-universal.sh epistack_1.13.0.tar.gz /Library/Frameworks/R.framework/Resources/bin/R epistack.buildbin-libdir StartedAt: 2025-02-10 00:52:28 -0500 (Mon, 10 Feb 2025) EndedAt: 2025-02-10 00:52:59 -0500 (Mon, 10 Feb 2025) EllapsedTime: 31.3 seconds RetCode: 0 Status: OK PackageFile: epistack_1.13.0.tgz PackageFileSize: 2.168 MiB