Package: epistack Version: 1.13.0 Command: /Library/Frameworks/R.framework/Resources/bin/R CMD check --install=check:epistack.install-out.txt --library=/Library/Frameworks/R.framework/Resources/library --no-vignettes --timings epistack_1.13.0.tar.gz StartedAt: 2025-02-09 20:33:28 -0500 (Sun, 09 Feb 2025) EndedAt: 2025-02-09 20:36:41 -0500 (Sun, 09 Feb 2025) EllapsedTime: 193.4 seconds RetCode: 0 Status: OK CheckDir: epistack.Rcheck Warnings: 0