Package: epistack Version: 1.13.0 Command: /home/biocbuild/bbs-3.21-bioc/R/bin/R CMD build --keep-empty-dirs --no-resave-data epistack StartedAt: 2025-02-04 17:07:51 -0500 (Tue, 04 Feb 2025) EndedAt: 2025-02-04 17:09:20 -0500 (Tue, 04 Feb 2025) EllapsedTime: 89.1 seconds RetCode: 0 Status: OK PackageFile: epistack_1.13.0.tar.gz PackageFileSize: 3.757 MiB