Package: epistack Version: 1.13.0 Command: /home/biocbuild/bbs-3.21-bioc/R/bin/R CMD check --install=check:epistack.install-out.txt --library=/home/biocbuild/bbs-3.21-bioc/R/site-library --timings epistack_1.13.0.tar.gz StartedAt: 2025-02-04 22:05:24 -0500 (Tue, 04 Feb 2025) EndedAt: 2025-02-04 22:10:06 -0500 (Tue, 04 Feb 2025) EllapsedTime: 281.4 seconds RetCode: 0 Status: OK CheckDir: epistack.Rcheck Warnings: 0