Package: epistack Version: 1.13.0 Command: /home/biocbuild/bbs-3.21-bioc/R/bin/R CMD INSTALL epistack StartedAt: 2025-02-04 15:18:50 -0500 (Tue, 04 Feb 2025) EndedAt: 2025-02-04 15:19:10 -0500 (Tue, 04 Feb 2025) EllapsedTime: 19.4 seconds RetCode: 0 Status: OK