Package: epistack Version: 1.13.0 Command: rm -rf epistack.buildbin-libdir && mkdir epistack.buildbin-libdir && E:\biocbuild\bbs-3.21-bioc\R\bin\R.exe CMD INSTALL --build --library=epistack.buildbin-libdir epistack_1.13.0.tar.gz StartedAt: 2025-02-04 07:56:10 -0500 (Tue, 04 Feb 2025) EndedAt: 2025-02-04 07:56:42 -0500 (Tue, 04 Feb 2025) EllapsedTime: 32.0 seconds RetCode: 0 Status: OK PackageFile: epistack_1.13.0.zip PackageFileSize: 1.416 MiB