Package: epivizr Version: 2.37.0 Command: rm -rf epivizr.buildbin-libdir && mkdir epivizr.buildbin-libdir && /Users/biocbuild/BBS/utils/build-universal.sh epivizr_2.37.0.tar.gz /Library/Frameworks/R.framework/Resources/bin/R epivizr.buildbin-libdir StartedAt: 2025-02-09 22:13:41 -0500 (Sun, 09 Feb 2025) EndedAt: 2025-02-09 22:14:02 -0500 (Sun, 09 Feb 2025) EllapsedTime: 20.4 seconds RetCode: 0 Status: OK PackageFile: epivizr_2.37.0.tgz PackageFileSize: 2.045 MiB