Package: epivizr Version: 2.37.0 Command: /Library/Frameworks/R.framework/Resources/bin/R CMD build --keep-empty-dirs --no-resave-data epivizr StartedAt: 2025-02-09 16:16:10 -0500 (Sun, 09 Feb 2025) EndedAt: 2025-02-09 16:16:45 -0500 (Sun, 09 Feb 2025) EllapsedTime: 35.3 seconds RetCode: 0 Status: OK PackageFile: epivizr_2.37.0.tar.gz PackageFileSize: 1.197 MiB