Package: epivizr Version: 2.37.0 Command: /home/biocbuild/R/R/bin/R CMD build --keep-empty-dirs --no-resave-data epivizr StartedAt: 2025-01-28 22:45:42 -0000 (Tue, 28 Jan 2025) EndedAt: 2025-01-28 22:47:24 -0000 (Tue, 28 Jan 2025) EllapsedTime: 102.0 seconds RetCode: 0 Status: OK PackageFile: epivizr_2.37.0.tar.gz PackageFileSize: 1.217 MiB