Package: epivizr Version: 2.37.0 Command: /home/biocbuild/R/R/bin/R CMD check --install=check:epivizr.install-out.txt --library=/home/biocbuild/R/R/site-library --no-vignettes --timings epivizr_2.37.0.tar.gz StartedAt: 2025-01-28 10:24:59 -0000 (Tue, 28 Jan 2025) EndedAt: 2025-01-28 10:32:29 -0000 (Tue, 28 Jan 2025) EllapsedTime: 450.5 seconds RetCode: 0 Status: WARNINGS CheckDir: epivizr.Rcheck Warnings: 5