Package: epivizr Version: 2.37.0 Command: rm -rf epivizr.buildbin-libdir && mkdir epivizr.buildbin-libdir && /Users/biocbuild/BBS/utils/build-universal.sh epivizr_2.37.0.tar.gz /Library/Frameworks/R.framework/Resources/bin/R epivizr.buildbin-libdir StartedAt: 2025-02-10 00:52:29 -0500 (Mon, 10 Feb 2025) EndedAt: 2025-02-10 00:53:33 -0500 (Mon, 10 Feb 2025) EllapsedTime: 63.7 seconds RetCode: 0 Status: OK PackageFile: epivizr_2.37.0.tgz PackageFileSize: 2 MiB