Package: epivizr Version: 2.37.0 Command: /Library/Frameworks/R.framework/Resources/bin/R CMD INSTALL epivizr StartedAt: 2025-02-09 15:22:36 -0500 (Sun, 09 Feb 2025) EndedAt: 2025-02-09 15:23:40 -0500 (Sun, 09 Feb 2025) EllapsedTime: 63.9 seconds RetCode: 0 Status: OK