Package: epivizr Version: 2.37.0 Command: /home/biocbuild/bbs-3.21-bioc/R/bin/R CMD build --keep-empty-dirs --no-resave-data epivizr StartedAt: 2025-02-09 17:10:08 -0500 (Sun, 09 Feb 2025) EndedAt: 2025-02-09 17:11:20 -0500 (Sun, 09 Feb 2025) EllapsedTime: 72.1 seconds RetCode: 0 Status: OK PackageFile: epivizr_2.37.0.tar.gz PackageFileSize: 1.181 MiB