Package: epivizr Version: 2.37.0 Command: /home/biocbuild/bbs-3.21-bioc/R/bin/R CMD check --install=check:epivizr.install-out.txt --library=/home/biocbuild/bbs-3.21-bioc/R/site-library --timings epivizr_2.37.0.tar.gz StartedAt: 2025-02-09 22:06:53 -0500 (Sun, 09 Feb 2025) EndedAt: 2025-02-09 22:13:30 -0500 (Sun, 09 Feb 2025) EllapsedTime: 396.5 seconds RetCode: 0 Status: OK CheckDir: epivizr.Rcheck Warnings: 0