Package: epivizr Version: 2.37.0 Command: rm -rf epivizr.buildbin-libdir && mkdir epivizr.buildbin-libdir && E:\biocbuild\bbs-3.21-bioc\R\bin\R.exe CMD INSTALL --build --library=epivizr.buildbin-libdir epivizr_2.37.0.tar.gz StartedAt: 2025-02-13 07:53:38 -0500 (Thu, 13 Feb 2025) EndedAt: 2025-02-13 07:54:51 -0500 (Thu, 13 Feb 2025) EllapsedTime: 72.8 seconds RetCode: 0 Status: OK PackageFile: epivizr_2.37.0.zip PackageFileSize: 1.989 MiB