Package: epivizr Version: 2.37.0 Command: chmod a+r epivizr -R && E:\biocbuild\bbs-3.21-bioc\R\bin\R.exe CMD build --keep-empty-dirs --no-resave-data epivizr StartedAt: 2025-02-09 18:35:31 -0500 (Sun, 09 Feb 2025) EndedAt: 2025-02-09 18:37:07 -0500 (Sun, 09 Feb 2025) EllapsedTime: 96.2 seconds RetCode: 0 Status: OK PackageFile: epivizr_2.37.0.tar.gz PackageFileSize: 1.14 MiB