Package: epivizr Version: 2.37.0 Command: E:\biocbuild\bbs-3.21-bioc\R\bin\R.exe CMD INSTALL epivizr StartedAt: 2025-02-09 16:30:58 -0500 (Sun, 09 Feb 2025) EndedAt: 2025-02-09 16:31:58 -0500 (Sun, 09 Feb 2025) EllapsedTime: 60.4 seconds RetCode: 0 Status: OK