Package: epivizrChart Version: 1.29.0 Command: rm -rf epivizrChart.buildbin-libdir && mkdir epivizrChart.buildbin-libdir && /Users/biocbuild/BBS/utils/build-universal.sh epivizrChart_1.29.0.tar.gz /Library/Frameworks/R.framework/Resources/bin/R epivizrChart.buildbin-libdir StartedAt: 2025-02-09 22:13:41 -0500 (Sun, 09 Feb 2025) EndedAt: 2025-02-09 22:14:03 -0500 (Sun, 09 Feb 2025) EllapsedTime: 21.4 seconds RetCode: 0 Status: OK PackageFile: epivizrChart_1.29.0.tgz PackageFileSize: 6.261 MiB