Package: epivizrChart Version: 1.29.0 Command: /Library/Frameworks/R.framework/Resources/bin/R CMD build --keep-empty-dirs --no-resave-data epivizrChart StartedAt: 2025-02-09 16:41:54 -0500 (Sun, 09 Feb 2025) EndedAt: 2025-02-09 16:44:03 -0500 (Sun, 09 Feb 2025) EllapsedTime: 129.0 seconds RetCode: 0 Status: OK PackageFile: epivizrChart_1.29.0.tar.gz PackageFileSize: 5.303 MiB