Package: epivizrChart Version: 1.29.0 Command: rm -rf epivizrChart.buildbin-libdir && mkdir epivizrChart.buildbin-libdir && E:\biocbuild\bbs-3.21-bioc\R\bin\R.exe CMD INSTALL --build --library=epivizrChart.buildbin-libdir epivizrChart_1.29.0.tar.gz StartedAt: 2025-02-10 07:42:51 -0500 (Mon, 10 Feb 2025) EndedAt: 2025-02-10 07:44:36 -0500 (Mon, 10 Feb 2025) EllapsedTime: 105.3 seconds RetCode: 0 Status: OK PackageFile: epivizrChart_1.29.0.zip PackageFileSize: 6.211 MiB