Package: epivizrChart Version: 1.29.0 Command: chmod a+r epivizrChart -R && E:\biocbuild\bbs-3.21-bioc\R\bin\R.exe CMD build --keep-empty-dirs --no-resave-data epivizrChart StartedAt: 2025-02-09 18:35:35 -0500 (Sun, 09 Feb 2025) EndedAt: 2025-02-09 18:39:13 -0500 (Sun, 09 Feb 2025) EllapsedTime: 218.5 seconds RetCode: 0 Status: OK PackageFile: epivizrChart_1.29.0.tar.gz PackageFileSize: 5.304 MiB