Package: epivizrChart Version: 1.29.0 Command: E:\biocbuild\bbs-3.21-bioc\R\bin\R.exe CMD check --no-multiarch --install=check:epivizrChart.install-out.txt --library=E:\biocbuild\bbs-3.21-bioc\R\library --no-vignettes --timings epivizrChart_1.29.0.tar.gz StartedAt: 2025-02-10 00:55:28 -0500 (Mon, 10 Feb 2025) EndedAt: 2025-02-10 01:01:41 -0500 (Mon, 10 Feb 2025) EllapsedTime: 373.3 seconds RetCode: 0 Status: OK CheckDir: epivizrChart.Rcheck Warnings: 0